BEGIN:VCALENDAR
VERSION:2.0
PRODID:-// - ECPv6.15.16//NONSGML v1.0//EN
CALSCALE:GREGORIAN
METHOD:PUBLISH
X-ORIGINAL-URL:https://mushlarose.ca
X-WR-CALDESC:Events for 
REFRESH-INTERVAL;VALUE=DURATION:PT1H
X-Robots-Tag:noindex
X-PUBLISHED-TTL:PT1H
BEGIN:VTIMEZONE
TZID:America/New_York
BEGIN:DAYLIGHT
TZOFFSETFROM:-0500
TZOFFSETTO:-0400
TZNAME:EDT
DTSTART:20230312T070000
END:DAYLIGHT
BEGIN:STANDARD
TZOFFSETFROM:-0400
TZOFFSETTO:-0500
TZNAME:EST
DTSTART:20231105T060000
END:STANDARD
BEGIN:DAYLIGHT
TZOFFSETFROM:-0500
TZOFFSETTO:-0400
TZNAME:EDT
DTSTART:20240310T070000
END:DAYLIGHT
BEGIN:STANDARD
TZOFFSETFROM:-0400
TZOFFSETTO:-0500
TZNAME:EST
DTSTART:20241103T060000
END:STANDARD
BEGIN:DAYLIGHT
TZOFFSETFROM:-0500
TZOFFSETTO:-0400
TZNAME:EDT
DTSTART:20250309T070000
END:DAYLIGHT
BEGIN:STANDARD
TZOFFSETFROM:-0400
TZOFFSETTO:-0500
TZNAME:EST
DTSTART:20251102T060000
END:STANDARD
BEGIN:DAYLIGHT
TZOFFSETFROM:-0500
TZOFFSETTO:-0400
TZNAME:EDT
DTSTART:20260308T070000
END:DAYLIGHT
BEGIN:STANDARD
TZOFFSETFROM:-0400
TZOFFSETTO:-0500
TZNAME:EST
DTSTART:20261101T060000
END:STANDARD
BEGIN:DAYLIGHT
TZOFFSETFROM:-0500
TZOFFSETTO:-0400
TZNAME:EDT
DTSTART:20270314T070000
END:DAYLIGHT
BEGIN:STANDARD
TZOFFSETFROM:-0400
TZOFFSETTO:-0500
TZNAME:EST
DTSTART:20271107T060000
END:STANDARD
END:VTIMEZONE
BEGIN:VEVENT
DTSTART;TZID=America/New_York:20260307T200000
DTEND;TZID=America/New_York:20260307T220000
DTSTAMP:20260422T132349
CREATED:20160910T020804Z
LAST-MODIFIED:20251014T024318Z
UID:771-1772913600-1772920800@mushlarose.ca
SUMMARY:Mush Larose Night Run #2
DESCRIPTION:March 7\, 2026\, 8:00 pm – 10:00 pm \nStart time will be 8 pm in P1 parking lot \n***Details will be updated closer to the date*** \nBring your dogs\, sled\, and a really good headlamp to run the oil-lamp guided western trails by moonlight. We ask that you run the trail in the direction requested to avoid head-on passing in the dark. Ask Kent and Cindy about where to start when you get there. We will have the usual campfire in P1 after the run. We will have hot dogs\, marshmallows and hot chocolate ( as long as it is not too cold for the burner). \nPlease note that this is not a training event.  If you are coming and bringing your dog(s) you need to make sure that you have arranged a team for them to run in as we will not be organizing teams. However\, this event is dependent on pretty good trail conditions. Be sure to check back the day of the event before leaving home. Changes/cancellations will be posted here: https://mushlarose.ca/event/night-run-2. \nIf not already completed for this season\, please send your proof of vaccinations to Cindy Merkley ahead of the event. Season memberships\, weekend memberships\, or associate memberships can be purchased here: https://mushlarose.ca/membership/ \nAny questions please contact Cindy and Kent: Sledding@mushlarose.ca. \n 
URL:https://mushlarose.ca/event/night-run-2/
LOCATION:Larose Forest\, Indian Creek Rd\, Limoges\, Ontario\, Canada
CATEGORIES:Mush Larose Activity,Social
ORGANIZER;CN="Kent and Cindy Merkley":MAILTO:info@mushlarose.ca
END:VEVENT
BEGIN:VEVENT
DTSTART;TZID=America/New_York:20260131T200000
DTEND;TZID=America/New_York:20260131T220000
DTSTAMP:20260422T132349
CREATED:20160910T020619Z
LAST-MODIFIED:20251014T024201Z
UID:769-1769889600-1769896800@mushlarose.ca
SUMMARY:Mush Larose Night Run #1
DESCRIPTION:January 31\, 2025\, 8 pm\, Larose Forest P1 parking area \n  \n****Updated details for this event will follow closer to the event date.**** \n  \nThis event is dependent on pretty good conditions. Be sure to check back the day of the event before leaving home. Changes/cancellations will be posted here. This is a fun self-directed run on the western trails at night by moon and torchlight. There are fire cooked wieners\, marshmallows and hot chocolate available to warm up after your run\, and lots of commeraderie around the fire after your run. \nIf not already completed for this season please send your proof of vaccinations to Cindy Merkley ahead of the event. Season memberships\, weekend memberships\, or associate memberships can be purchased here: http://mushlarose.ca/membership/ \nAny questions please contact Cindy and Kent at Sledding@MushLarose.ca
URL:https://mushlarose.ca/event/night-run/
LOCATION:Larose Forest\, Indian Creek Rd\, Limoges\, Ontario\, Canada
CATEGORIES:Mush Larose Activity,Social
ORGANIZER;CN="Kent and Cindy Merkley":MAILTO:info@mushlarose.ca
END:VEVENT
BEGIN:VEVENT
DTSTART;TZID=America/New_York:20240902T120000
DTEND;TZID=America/New_York:20240902T160000
DTSTAMP:20260422T132349
CREATED:20180701T221217Z
LAST-MODIFIED:20240723T001724Z
UID:1438-1725278400-1725292800@mushlarose.ca
SUMMARY:Annual General Meeting and BBQ
DESCRIPTION:Monday\, 2 September 2024 (Labour Day)\, at noon\nSue Giles’ backyard\, 3383 Elizabeth St.\, Osgoode\, ON \n  \nWe will have our usual BBQ of burgers\, sausages\, drinks and chips: free for members\, $5 for a guest. Potluck items are welcomed\, but not required. Please bring your own chair. \nExecutive meeting minutes are attached. Which is basically a detailed agenda for the AGM. Highlights: \n\nReview this year’s financials: 23/24 surplus (donations\, and very low grooming expenses due to lack of snow)\nTrails and signage\nPossible Fatjor (fat bikejor) winter trail time and race class\nTraining days: additional mentors required\nElections: Nominations are welcome! In particular we need new Head of Trail Maintenance; and organizers for Dryland #2and Race 4 Rescue\nTentative event schedule (see Exec minutes)\n\nFeel free to propose additional topics that are of special interest to you. If you are unable to attend in person\, or you are not comfortable speaking\, send your concerns/comments to Jeff (President@MushLarose.ca). He will read them at the meeting for discussion. \nCome out and elect next year’s executive\, and let them know where you want the club to go. We’re looking forward to hearing what you have to say! \nPlease RSVP\, so that we can plan. (President@MushLarose.ca) \nRegards\, \nJeff Black
URL:https://mushlarose.ca/event/annual-general-meeting/
CATEGORIES:Mush Larose Activity,Social
ORGANIZER;CN="Jeff Black":MAILTO:president@mushlarose.ca
END:VEVENT
END:VCALENDAR